BEGIN:VCALENDAR
VERSION:2.0
PRODID:-//Sabre//Sabre VObject 4.5.8//EN
CALSCALE:GREGORIAN
BEGIN:VEVENT
UID:sabre-vobject-bfa24ba4-d1ff-4771-87e0-dabd3c35d428
DTSTAMP:20260419T124707Z
SUMMARY:Corona als "gender equalizer"? Entwicklung der Arbeitsteilung zur K
 inderbetreuung in Paarhaushalten im Laufe der Pandemie
DESCRIPTION:Der Vortrag beleuchtet\, ob und wie sich die gegensätzlichen T
 hesen zu Retraditionalisierung bzw. Modernisierung von Geschlechterrollen 
 bei der elterlichen Kinderbetreuung während der COVID-19-Pandemie in den 
 Daten wiederfinden.\nUnter Verwendung (bi-)monatlicher Paneldaten des Hoch
 frequenten Online Personen Panels (IAB-HOPP) wird die mittelfristige Dynam
 ik der Aufteilung von Kinderbetreuung im Elternpaar nach dem ersten COVID-
 19 Lockdown in Deutschland bis zum April/Mai 2021 in den Blick genommen.\n
 Vortragende:\nDana Müller leitet das Forschungsdatenzentrum (FDZ) der Bun
 desagentur für Arbeit (BA) im Institut für Arbeitsmarkt- und Berufsforsc
 hung (IAB). Ihre Forschungsinteressen liegen im Bereich der Familiensoziol
 ogie\, insbesondere Themen der Ungleichheiten von Frauen und Männern am A
 rbeitsmarkt\, sowie im Bereich der Verknüpfung von administrativen Daten.
 \nDr. Simone Schüller ist wissenschaftliche Referentin der Fachgruppe F1 
 “Lebenslagen und Lebensführung von Familien“ der Abteilung Familie un
 d Familienpolitik am Deutschen Jugendinstitut e.V. Sie wendet in ihrer For
 schung Methoden der Mikroökonometrie und Politikevaluation im Bereich der
  Migrations- und Familienökonomik an.\nErgänzende Links zur Präsentatio
 n: Zementiertes Rollenverhalten in der Fürsorge für Kinder\, trotz Pande
 mie – Eine Herausforderung für die Familien- und Gleichstellungspolitik
 \, ifo Schnelldienst\, 75(10)\, 28–33\, 2022\nAufteilung der Sorge- und 
 Erwerbsarbeit zwischen Frauen und Männern: In der Pandemie ändern sich G
 eschlechterrollen kaum\, IAB-Kurzbericht 5/2022\nNeither Backlash nor Conv
 ergence: Dynamics of Intracouple Childcare Division after the First Covid-
 19 Lockdown and Subsequent Reopening in Germany\, IAB-Discussion Paper 12/
 2021
DTSTART;TZID="+01:00":20221130T130000
DTEND;TZID="+01:00":20221130T140000
LOCATION:
ORGANIZER:
END:VEVENT
END:VCALENDAR
