BEGIN:VCALENDAR
VERSION:2.0
PRODID:-//Sabre//Sabre VObject 4.5.8//EN
CALSCALE:GREGORIAN
BEGIN:VEVENT
UID:sabre-vobject-ef32afa0-d21a-4c07-b0fe-4e734cc813c5
DTSTAMP:20260424T165410Z
SUMMARY:Evaluation und Nachhaltigkeit
DESCRIPTION:Nachhaltigkeit ist ein Begriff\, der aus politischen Diskursen\
 , Positionspapieren oder Projektanträgen kaum mehr wegzudenken ist. Desha
 lb greift die „Gesellschaft für Evaluation“\, bei der das Deutsche Ju
 gendinstitut (DJI) institutionelles Mitglied ist\, in der diesjährigen 22
 . Jahrestagung das Thema „Evaluation und Nachhaltigkeit“ auf. \nMehrer
 e Kolleginnen und Kollegen des DJI sind mit Vorträgen auf der Tagung vert
 reten: Franziska Heinze\, Frank König\, Stefanie Reiter und Ellen Schroet
 er sprechen über „Going beyond – (ko-)konstruktive Beiträge der Prog
 rammevaluation zu Nachhaltigkeit“. Dr. Carmen Figlestahler und Marco Sch
 ott referieren unter dem Titel „Radikal nachhaltig? – Vorzüge und Gre
 nzen der Evaluation von geplanten Nachhaltigkeitsvorhaben bei Modellprojek
 ten im Feld der Radikalisierungsprävention“. Frank König trägt außer
 dem zum Thema „Innovativität als Indikator für Nachhaltigkeit in der E
 valuation pädagogischer Modellprojektpraxis“ vor.
DTSTART;TZID="+02:00":20190911T133000
DTEND;TZID="+02:00":20190913T160000
LOCATION:Universitäts-Hauptgebäude Rheinische Friedrich-Wilhelms-Universi
 tät Bonn Regina-Pacis-Weg 3 (Eingang: Am Hof) D-53113 Bonn
ORGANIZER:DeGEval – Gesellschaft für Evaluation e.V.
END:VEVENT
END:VCALENDAR
